BEGIN:VCALENDAR
VERSION:2.0
PRODID:-//jEvents 2.0 for Joomla//EN
CALSCALE:GREGORIAN
METHOD:PUBLISH
BEGIN:VTIMEZONE
TZID:Europe/Brussels
BEGIN:STANDARD
DTSTART:20251026T020000
RDATE:20260329T030000
TZOFFSETFROM:+0200
TZOFFSETTO:+0100
TZNAME:Europe/Brussels CET
END:STANDARD
BEGIN:STANDARD
DTSTART:20261025T020000
RDATE:20270328T030000
TZOFFSETFROM:+0200
TZOFFSETTO:+0100
TZNAME:Europe/Brussels CET
END:STANDARD
BEGIN:STANDARD
DTSTART:20271031T020000
RDATE:20280326T030000
TZOFFSETFROM:+0200
TZOFFSETTO:+0100
TZNAME:Europe/Brussels CET
END:STANDARD
BEGIN:STANDARD
DTSTART:20281029T020000
RDATE:20290325T030000
TZOFFSETFROM:+0200
TZOFFSETTO:+0100
TZNAME:Europe/Brussels CET
END:STANDARD
BEGIN:STANDARD
DTSTART:20291028T020000
RDATE:20300331T030000
TZOFFSETFROM:+0200
TZOFFSETTO:+0100
TZNAME:Europe/Brussels CET
END:STANDARD
BEGIN:STANDARD
DTSTART:20301027T020000
RDATE:20310330T030000
TZOFFSETFROM:+0200
TZOFFSETTO:+0100
TZNAME:Europe/Brussels CET
END:STANDARD
BEGIN:DAYLIGHT
DTSTART:20250921T083000
RDATE:20251026T020000
TZOFFSETFROM:+0100
TZOFFSETTO:+0200
TZNAME:Europe/Brussels CEST
END:DAYLIGHT
BEGIN:DAYLIGHT
DTSTART:20260329T030000
RDATE:20261025T020000
TZOFFSETFROM:+0100
TZOFFSETTO:+0200
TZNAME:Europe/Brussels CEST
END:DAYLIGHT
BEGIN:DAYLIGHT
DTSTART:20270328T030000
RDATE:20271031T020000
TZOFFSETFROM:+0100
TZOFFSETTO:+0200
TZNAME:Europe/Brussels CEST
END:DAYLIGHT
BEGIN:DAYLIGHT
DTSTART:20280326T030000
RDATE:20281029T020000
TZOFFSETFROM:+0100
TZOFFSETTO:+0200
TZNAME:Europe/Brussels CEST
END:DAYLIGHT
BEGIN:DAYLIGHT
DTSTART:20290325T030000
RDATE:20291028T020000
TZOFFSETFROM:+0100
TZOFFSETTO:+0200
TZNAME:Europe/Brussels CEST
END:DAYLIGHT
BEGIN:DAYLIGHT
DTSTART:20300331T030000
RDATE:20301027T020000
TZOFFSETFROM:+0100
TZOFFSETTO:+0200
TZNAME:Europe/Brussels CEST
END:DAYLIGHT
END:VTIMEZONE
BEGIN:VEVENT
UID:dfb10da11d2c957e0b043db82cc522c7
CATEGORIES:BOC 21
CREATED:20260115T094342
SUMMARY:Jaarlijkse Rondgang LDPBW21 / Tour Annuel SLPPT21 - BACA + CC V&C (Staf en Dept Netw)
LOCATION:Blokken/Blocs B4 - B10 - B1 - H6 - L16
DESCRIPTION:BACA  =   Blok/Bloc B4\nCC V&amp;C (Staf &amp; Dept Netw) = Blokken/Blocs B
 10, B1, H6, L16\nRV B4 08u30 - B10 09u30\nOrganisatie/Organisation: LDPBW 2
 1 = Mr. VERHOEVEN Rudolf  Dit e-mailadres wordt beveiligd tegen spambots. J
 avaScript dient ingeschakeld te zijn om het te bekijken. - Dit e-mailadres 
 wordt beveiligd tegen spambots. JavaScript dient ingeschakeld te zijn om he
 t te bekijken. Netw\n
X-ALT-DESC;FMTTYPE=text/html:<p>BACA  =   Blok/Bloc B4<br />CC V&amp;C (Staf &amp; Dept Netw) = Blokken/
 Blocs B10, B1, H6, L16</p><p><span style="text-decoration: underline;"><str
 ong>RV B4 08u30 - B10 09u30</strong></span></p><p>Organisatie/Organisation:
  LDPBW 21 = Mr. VERHOEVEN Rudolf  <joomla-hidden-mail  is-link="1" is-email
 ="1" first="cnVkb2xmLnZlcmhvZXZlbg==" last="bWlsLmJl" text="cnVkb2xmLnZlcmh
 vZXZlbkBtaWwuYmU=" base="" >Dit e-mailadres wordt beveiligd tegen spambots.
  JavaScript dient ingeschakeld te zijn om het te bekijken.</joomla-hidden-m
 ail> - <joomla-hidden-mail  is-link="1" is-email="1" first="REdIV0ItU0xQUFQ
 yMS1QRVVUSUU=" last="bWlsLmJl" text="REdIV0ItU0xQUFQyMS1QRVVUSUVAbWlsLmJl" 
 base="" >Dit e-mailadres wordt beveiligd tegen spambots. JavaScript dient i
 ngeschakeld te zijn om het te bekijken.</joomla-hidden-mail> Netw</p>
CONTACT:Dit e-mailadres wordt beveiligd tegen spambots. JavaScript dient ingeschakeld te zijn om het te bekijken.
DTSTAMP:20260422T172317
DTSTART;TZID=Europe/Brussels:20260922T083000
DTEND;TZID=Europe/Brussels:20260922T120000
SEQUENCE:0
TRANSP:OPAQUE
END:VEVENT
END:VCALENDAR