BEGIN:VCALENDAR
VERSION:2.0
PRODID:-//jEvents 2.0 for Joomla//EN
CALSCALE:GREGORIAN
METHOD:PUBLISH
BEGIN:VTIMEZONE
TZID:Europe/Brussels
BEGIN:STANDARD
DTSTART:20251026T020000
RDATE:20260329T030000
TZOFFSETFROM:+0200
TZOFFSETTO:+0100
TZNAME:Europe/Brussels CET
END:STANDARD
BEGIN:STANDARD
DTSTART:20261025T020000
RDATE:20270328T030000
TZOFFSETFROM:+0200
TZOFFSETTO:+0100
TZNAME:Europe/Brussels CET
END:STANDARD
BEGIN:STANDARD
DTSTART:20271031T020000
RDATE:20280326T030000
TZOFFSETFROM:+0200
TZOFFSETTO:+0100
TZNAME:Europe/Brussels CET
END:STANDARD
BEGIN:STANDARD
DTSTART:20281029T020000
RDATE:20290325T030000
TZOFFSETFROM:+0200
TZOFFSETTO:+0100
TZNAME:Europe/Brussels CET
END:STANDARD
BEGIN:STANDARD
DTSTART:20291028T020000
RDATE:20300331T030000
TZOFFSETFROM:+0200
TZOFFSETTO:+0100
TZNAME:Europe/Brussels CET
END:STANDARD
BEGIN:STANDARD
DTSTART:20301027T020000
RDATE:20310330T030000
TZOFFSETFROM:+0200
TZOFFSETTO:+0100
TZNAME:Europe/Brussels CET
END:STANDARD
BEGIN:DAYLIGHT
DTSTART:20250525T083000
RDATE:20251026T020000
TZOFFSETFROM:+0100
TZOFFSETTO:+0200
TZNAME:Europe/Brussels CEST
END:DAYLIGHT
BEGIN:DAYLIGHT
DTSTART:20260329T030000
RDATE:20261025T020000
TZOFFSETFROM:+0100
TZOFFSETTO:+0200
TZNAME:Europe/Brussels CEST
END:DAYLIGHT
BEGIN:DAYLIGHT
DTSTART:20270328T030000
RDATE:20271031T020000
TZOFFSETFROM:+0100
TZOFFSETTO:+0200
TZNAME:Europe/Brussels CEST
END:DAYLIGHT
BEGIN:DAYLIGHT
DTSTART:20280326T030000
RDATE:20281029T020000
TZOFFSETFROM:+0100
TZOFFSETTO:+0200
TZNAME:Europe/Brussels CEST
END:DAYLIGHT
BEGIN:DAYLIGHT
DTSTART:20290325T030000
RDATE:20291028T020000
TZOFFSETFROM:+0100
TZOFFSETTO:+0200
TZNAME:Europe/Brussels CEST
END:DAYLIGHT
BEGIN:DAYLIGHT
DTSTART:20300331T030000
RDATE:20301027T020000
TZOFFSETFROM:+0100
TZOFFSETTO:+0200
TZNAME:Europe/Brussels CEST
END:DAYLIGHT
END:VTIMEZONE
BEGIN:VEVENT
UID:03c053069e93c4154872efba55fa50f4
CATEGORIES:BOC 21
CREATED:20260115T093841
SUMMARY:Jaarlijkse Rondgang LDPBW21 / Tour Annuel SLPPT21 - dienstverlener OutS FM
LOCATION:Blokken/Blocs D4 - D5
DESCRIPTION:CC V&amp;C - Dienstverlener OutS FM =   Blokken/Blocs Afvalpark - A1 - C3 -
  H5 - P1 - (RV C3 - 08u30 )\nOrganisatie/Organisation: LDPBW 21 = Mr. VERHO
 EVEN Rudolf  Dit e-mailadres wordt beveiligd tegen spambots. JavaScript die
 nt ingeschakeld te zijn om het te bekijken. - Dit e-mailadres wordt beveili
 gd tegen spambots. JavaScript dient ingeschakeld te zijn om het te bekijken
 . \n
X-ALT-DESC;FMTTYPE=text/html:<p>CC V&amp;C - Dienstverlener OutS FM =   Blokken/Blocs Afvalpark - A1 - C
 3 - H5 - P1 - (<span style="text-decoration: underline;"><strong>RV C3 - 08
 u30 </strong></span>)</p><p>Organisatie/Organisation: LDPBW 21 = Mr. VERHOE
 VEN Rudolf  <joomla-hidden-mail  is-link="1" is-email="1" first="cnVkb2xmLn
 ZlcmhvZXZlbg==" last="bWlsLmJl" text="cnVkb2xmLnZlcmhvZXZlbkBtaWwuYmU=" bas
 e="" >Dit e-mailadres wordt beveiligd tegen spambots. JavaScript dient inge
 schakeld te zijn om het te bekijken.</joomla-hidden-mail> - <joomla-hidden-
 mail  is-link="1" is-email="1" first="REdIV0ItU0xQUFQyMS1QRVVUSUU=" last="b
 WlsLmJl" text="REdIV0ItU0xQUFQyMS1QRVVUSUVAbWlsLmJl" base="" >Dit e-mailadr
 es wordt beveiligd tegen spambots. JavaScript dient ingeschakeld te zijn om
  het te bekijken.</joomla-hidden-mail> </p>
CONTACT:Dit e-mailadres wordt beveiligd tegen spambots. JavaScript dient ingeschakeld te zijn om het te bekijken.
DTSTAMP:20260422T045051
DTSTART;TZID=Europe/Brussels:20260526T083000
DTEND;TZID=Europe/Brussels:20260526T120000
SEQUENCE:0
TRANSP:OPAQUE
END:VEVENT
END:VCALENDAR