BEGIN:VCALENDAR
VERSION:2.0
PRODID:-//jEvents 2.0 for Joomla//EN
CALSCALE:GREGORIAN
METHOD:PUBLISH
BEGIN:VTIMEZONE
TZID:Europe/Brussels
BEGIN:STANDARD
DTSTART:20251026T020000
RDATE:20260329T030000
TZOFFSETFROM:+0200
TZOFFSETTO:+0100
TZNAME:Europe/Brussels CET
END:STANDARD
BEGIN:STANDARD
DTSTART:20261025T020000
RDATE:20270328T030000
TZOFFSETFROM:+0200
TZOFFSETTO:+0100
TZNAME:Europe/Brussels CET
END:STANDARD
BEGIN:STANDARD
DTSTART:20271031T020000
RDATE:20280326T030000
TZOFFSETFROM:+0200
TZOFFSETTO:+0100
TZNAME:Europe/Brussels CET
END:STANDARD
BEGIN:STANDARD
DTSTART:20281029T020000
RDATE:20290325T030000
TZOFFSETFROM:+0200
TZOFFSETTO:+0100
TZNAME:Europe/Brussels CET
END:STANDARD
BEGIN:STANDARD
DTSTART:20291028T020000
RDATE:20300331T030000
TZOFFSETFROM:+0200
TZOFFSETTO:+0100
TZNAME:Europe/Brussels CET
END:STANDARD
BEGIN:STANDARD
DTSTART:20301027T020000
RDATE:20310330T030000
TZOFFSETFROM:+0200
TZOFFSETTO:+0100
TZNAME:Europe/Brussels CET
END:STANDARD
BEGIN:DAYLIGHT
DTSTART:20250420T083000
RDATE:20251026T020000
TZOFFSETFROM:+0100
TZOFFSETTO:+0200
TZNAME:Europe/Brussels CEST
END:DAYLIGHT
BEGIN:DAYLIGHT
DTSTART:20260329T030000
RDATE:20261025T020000
TZOFFSETFROM:+0100
TZOFFSETTO:+0200
TZNAME:Europe/Brussels CEST
END:DAYLIGHT
BEGIN:DAYLIGHT
DTSTART:20270328T030000
RDATE:20271031T020000
TZOFFSETFROM:+0100
TZOFFSETTO:+0200
TZNAME:Europe/Brussels CEST
END:DAYLIGHT
BEGIN:DAYLIGHT
DTSTART:20280326T030000
RDATE:20281029T020000
TZOFFSETFROM:+0100
TZOFFSETTO:+0200
TZNAME:Europe/Brussels CEST
END:DAYLIGHT
BEGIN:DAYLIGHT
DTSTART:20290325T030000
RDATE:20291028T020000
TZOFFSETFROM:+0100
TZOFFSETTO:+0200
TZNAME:Europe/Brussels CEST
END:DAYLIGHT
BEGIN:DAYLIGHT
DTSTART:20300331T030000
RDATE:20301027T020000
TZOFFSETFROM:+0100
TZOFFSETTO:+0200
TZNAME:Europe/Brussels CEST
END:DAYLIGHT
END:VTIMEZONE
BEGIN:VEVENT
UID:a157e1f68fdf61b8e2395d8660d8feab
CATEGORIES:BOC 21
CREATED:20260115T093321
SUMMARY:Jaarlijkse Rondgang LDPBW21 / Tour Annuel SLPPT21 - CC V&C - IT&S
LOCATION:Blokken/Blocs Bu01\, Bu01Ann
DESCRIPTION:<p>CC V&amp;C IT&amp;S  = Blokken/Blocs Bu01, Bu01Ann  </p><p><strong>RV Bu
 01 - 08u30 </strong></p><p>Organisatie/Organisation: LDPBW 21 = Mr. VERHOEV
 EN Rudolf  <joomla-hidden-mail  is-link="1" is-email="1" first="cnVkb2xmLnZ
 lcmhvZXZlbg==" last="bWlsLmJl" text="cnVkb2xmLnZlcmhvZXZlbkBtaWwuYmU=" base
 ="" >Dit e-mailadres wordt beveiligd tegen spambots. JavaScript dient inges
 chakeld te zijn om het te bekijken.</joomla-hidden-mail> - <joomla-hidden-m
 ail  is-link="1" is-email="1" first="REdIV0ItU0xQUFQyMS1QRVVUSUU=" last="bW
 lsLmJl" text="REdIV0ItU0xQUFQyMS1QRVVUSUVAbWlsLmJl" base="" >Dit e-mailadre
 s wordt beveiligd tegen spambots. JavaScript dient ingeschakeld te zijn om 
 het te bekijken.</joomla-hidden-mail> </p>
CONTACT:Dit e-mailadres wordt beveiligd tegen spambots. JavaScript dient ingeschakeld te zijn om het te bekijken.
DTSTAMP:20260422T030638
DTSTART;TZID=Europe/Brussels:20260421T083000
DTEND;TZID=Europe/Brussels:20260421T120000
SEQUENCE:0
TRANSP:OPAQUE
END:VEVENT
END:VCALENDAR