BEGIN:VCALENDAR
VERSION:2.0
PRODID:-//jEvents 2.0 for Joomla//EN
CALSCALE:GREGORIAN
METHOD:PUBLISH
BEGIN:VTIMEZONE
TZID:Europe/Brussels
BEGIN:STANDARD
DTSTART:20250225T083000
RDATE:20250330T030000
TZOFFSETFROM:+0200
TZOFFSETTO:+0100
TZNAME:Europe/Brussels CET
END:STANDARD
BEGIN:STANDARD
DTSTART:20251026T020000
RDATE:20260329T030000
TZOFFSETFROM:+0200
TZOFFSETTO:+0100
TZNAME:Europe/Brussels CET
END:STANDARD
BEGIN:STANDARD
DTSTART:20261025T020000
RDATE:20270328T030000
TZOFFSETFROM:+0200
TZOFFSETTO:+0100
TZNAME:Europe/Brussels CET
END:STANDARD
BEGIN:STANDARD
DTSTART:20271031T020000
RDATE:20280326T030000
TZOFFSETFROM:+0200
TZOFFSETTO:+0100
TZNAME:Europe/Brussels CET
END:STANDARD
BEGIN:STANDARD
DTSTART:20281029T020000
RDATE:20290325T030000
TZOFFSETFROM:+0200
TZOFFSETTO:+0100
TZNAME:Europe/Brussels CET
END:STANDARD
BEGIN:STANDARD
DTSTART:20291028T020000
RDATE:20300331T030000
TZOFFSETFROM:+0200
TZOFFSETTO:+0100
TZNAME:Europe/Brussels CET
END:STANDARD
BEGIN:STANDARD
DTSTART:20301027T020000
RDATE:20310330T030000
TZOFFSETFROM:+0200
TZOFFSETTO:+0100
TZNAME:Europe/Brussels CET
END:STANDARD
BEGIN:DAYLIGHT
DTSTART:20250330T030000
RDATE:20251026T020000
TZOFFSETFROM:+0100
TZOFFSETTO:+0200
TZNAME:Europe/Brussels CEST
END:DAYLIGHT
BEGIN:DAYLIGHT
DTSTART:20260329T030000
RDATE:20261025T020000
TZOFFSETFROM:+0100
TZOFFSETTO:+0200
TZNAME:Europe/Brussels CEST
END:DAYLIGHT
BEGIN:DAYLIGHT
DTSTART:20270328T030000
RDATE:20271031T020000
TZOFFSETFROM:+0100
TZOFFSETTO:+0200
TZNAME:Europe/Brussels CEST
END:DAYLIGHT
BEGIN:DAYLIGHT
DTSTART:20280326T030000
RDATE:20281029T020000
TZOFFSETFROM:+0100
TZOFFSETTO:+0200
TZNAME:Europe/Brussels CEST
END:DAYLIGHT
BEGIN:DAYLIGHT
DTSTART:20290325T030000
RDATE:20291028T020000
TZOFFSETFROM:+0100
TZOFFSETTO:+0200
TZNAME:Europe/Brussels CEST
END:DAYLIGHT
BEGIN:DAYLIGHT
DTSTART:20300331T030000
RDATE:20301027T020000
TZOFFSETFROM:+0100
TZOFFSETTO:+0200
TZNAME:Europe/Brussels CEST
END:DAYLIGHT
END:VTIMEZONE
BEGIN:VEVENT
UID:afff7910e80a964ef7eaa66af5c50414
CATEGORIES:BOC 21
CREATED:20260115T092111
SUMMARY:Jaarlijkse Rondgang LDPBW21 / Tour Annuel SLPPT21 - CDSCA & FONAVIBEL
LOCATION:Blokken/BlocsB10 - D6 - H4
DESCRIPTION:CDSCA = Blokken/Blocs ) B10 - D6 - H4   RV B10 - 08u30\nFONAVIBEL = Blokken
 /Blocs B10 - H4   RV B10 - 13u00\nOrganisatie/Organisation: LDPBW 21 = Mr. 
 VERHOEVEN Rudolf  Dit e-mailadres wordt beveiligd tegen spambots. JavaScrip
 t dient ingeschakeld te zijn om het te bekijken. - Dit e-mailadres wordt be
 veiligd tegen spambots. JavaScript dient ingeschakeld te zijn om het te bek
 ijken. \n
X-ALT-DESC;FMTTYPE=text/html:<p>CDSCA = Blokken/Blocs ) B10 - D6 - H4   <strong>RV B10 - 08u30</strong><
 br />FONAVIBEL = Blokken/Blocs B10 - H4   <strong>RV B10 - 13u00</strong></
 p><p>Organisatie/Organisation: LDPBW 21 = Mr. VERHOEVEN Rudolf  <joomla-hid
 den-mail  is-link="1" is-email="1" first="cnVkb2xmLnZlcmhvZXZlbg==" last="b
 WlsLmJl" text="cnVkb2xmLnZlcmhvZXZlbkBtaWwuYmU=" base="" >Dit e-mailadres w
 ordt beveiligd tegen spambots. JavaScript dient ingeschakeld te zijn om het
  te bekijken.</joomla-hidden-mail> - <joomla-hidden-mail  is-link="1" is-em
 ail="1" first="REdIV0ItU0xQUFQyMS1QRVVUSUU=" last="bWlsLmJl" text="REdIV0It
 U0xQUFQyMS1QRVVUSUVAbWlsLmJl" base="" >Dit e-mailadres wordt beveiligd tege
 n spambots. JavaScript dient ingeschakeld te zijn om het te bekijken.</joom
 la-hidden-mail> </p>
CONTACT:Dit e-mailadres wordt beveiligd tegen spambots. JavaScript dient ingeschakeld te zijn om het te bekijken.
DTSTAMP:20260422T092136
DTSTART;TZID=Europe/Brussels:20260226T083000
DTEND;TZID=Europe/Brussels:20260226T120000
SEQUENCE:0
TRANSP:OPAQUE
END:VEVENT
END:VCALENDAR