BEGIN:VCALENDAR
VERSION:2.0
PRODID:-//jEvents 2.0 for Joomla//EN
CALSCALE:GREGORIAN
METHOD:PUBLISH
BEGIN:VTIMEZONE
TZID:Europe/Brussels
BEGIN:STANDARD
DTSTART:20240217T083000
RDATE:20240331T030000
TZOFFSETFROM:+0200
TZOFFSETTO:+0100
TZNAME:Europe/Brussels CET
END:STANDARD
BEGIN:STANDARD
DTSTART:20241027T020000
RDATE:20250330T030000
TZOFFSETFROM:+0200
TZOFFSETTO:+0100
TZNAME:Europe/Brussels CET
END:STANDARD
BEGIN:STANDARD
DTSTART:20251026T020000
RDATE:20260329T030000
TZOFFSETFROM:+0200
TZOFFSETTO:+0100
TZNAME:Europe/Brussels CET
END:STANDARD
BEGIN:STANDARD
DTSTART:20261025T020000
RDATE:20270328T030000
TZOFFSETFROM:+0200
TZOFFSETTO:+0100
TZNAME:Europe/Brussels CET
END:STANDARD
BEGIN:STANDARD
DTSTART:20271031T020000
RDATE:20280326T030000
TZOFFSETFROM:+0200
TZOFFSETTO:+0100
TZNAME:Europe/Brussels CET
END:STANDARD
BEGIN:STANDARD
DTSTART:20281029T020000
RDATE:20290325T030000
TZOFFSETFROM:+0200
TZOFFSETTO:+0100
TZNAME:Europe/Brussels CET
END:STANDARD
BEGIN:STANDARD
DTSTART:20291028T020000
RDATE:20300331T030000
TZOFFSETFROM:+0200
TZOFFSETTO:+0100
TZNAME:Europe/Brussels CET
END:STANDARD
BEGIN:STANDARD
DTSTART:20301027T020000
RDATE:20310330T030000
TZOFFSETFROM:+0200
TZOFFSETTO:+0100
TZNAME:Europe/Brussels CET
END:STANDARD
BEGIN:DAYLIGHT
DTSTART:20240331T030000
RDATE:20241027T020000
TZOFFSETFROM:+0100
TZOFFSETTO:+0200
TZNAME:Europe/Brussels CEST
END:DAYLIGHT
BEGIN:DAYLIGHT
DTSTART:20250330T030000
RDATE:20251026T020000
TZOFFSETFROM:+0100
TZOFFSETTO:+0200
TZNAME:Europe/Brussels CEST
END:DAYLIGHT
BEGIN:DAYLIGHT
DTSTART:20260329T030000
RDATE:20261025T020000
TZOFFSETFROM:+0100
TZOFFSETTO:+0200
TZNAME:Europe/Brussels CEST
END:DAYLIGHT
BEGIN:DAYLIGHT
DTSTART:20270328T030000
RDATE:20271031T020000
TZOFFSETFROM:+0100
TZOFFSETTO:+0200
TZNAME:Europe/Brussels CEST
END:DAYLIGHT
BEGIN:DAYLIGHT
DTSTART:20280326T030000
RDATE:20281029T020000
TZOFFSETFROM:+0100
TZOFFSETTO:+0200
TZNAME:Europe/Brussels CEST
END:DAYLIGHT
BEGIN:DAYLIGHT
DTSTART:20290325T030000
RDATE:20291028T020000
TZOFFSETFROM:+0100
TZOFFSETTO:+0200
TZNAME:Europe/Brussels CEST
END:DAYLIGHT
BEGIN:DAYLIGHT
DTSTART:20300331T030000
RDATE:20301027T020000
TZOFFSETFROM:+0100
TZOFFSETTO:+0200
TZNAME:Europe/Brussels CEST
END:DAYLIGHT
END:VTIMEZONE
BEGIN:VEVENT
UID:a6beda4fc8863a633361c7aaafb6d0f0
CATEGORIES:BOC 21
CREATED:20260115T091721
SUMMARY:Jaarlijkse Rondgang LDPBW21 / Tour Annuel SLPPT21 - Mov Ctl Gp & MP Gp
LOCATION:Blokken/Blocs B11 - H1 - E2 - C2
DESCRIPTION:Mov Ctl Gp  =   Blokken/Blocs B11, H1   RV B11 - 08u30 \nMP Gp = Blokken/Bl
 ocs E2 - C2   RV E2 - 10u00 \nOrganisatie/Organisation: LDPBW 21 = Mr. VERH
 OEVEN Rudolf  Dit e-mailadres wordt beveiligd tegen spambots. JavaScript di
 ent ingeschakeld te zijn om het te bekijken. - Dit e-mailadres wordt beveil
 igd tegen spambots. JavaScript dient ingeschakeld te zijn om het te bekijke
 n. \n
X-ALT-DESC;FMTTYPE=text/html:<p>Mov Ctl Gp  =   Blokken/Blocs B11, H1   <strong>RV B11 - 08u30 </strong>
 <br />MP Gp = Blokken/Blocs E2 - C2   <strong>RV E2 - 10u00 </strong></p><p
 >Organisatie/Organisation: LDPBW 21 = Mr. VERHOEVEN Rudolf  <joomla-hidden-
 mail  is-link="1" is-email="1" first="cnVkb2xmLnZlcmhvZXZlbg==" last="bWlsL
 mJl" text="cnVkb2xmLnZlcmhvZXZlbkBtaWwuYmU=" base="" >Dit e-mailadres wordt
  beveiligd tegen spambots. JavaScript dient ingeschakeld te zijn om het te 
 bekijken.</joomla-hidden-mail> - <joomla-hidden-mail  is-link="1" is-email=
 "1" first="REdIV0ItU0xQUFQyMS1QRVVUSUU=" last="bWlsLmJl" text="REdIV0ItU0xQ
 UFQyMS1QRVVUSUVAbWlsLmJl" base="" >Dit e-mailadres wordt beveiligd tegen sp
 ambots. JavaScript dient ingeschakeld te zijn om het te bekijken.</joomla-h
 idden-mail> </p>
CONTACT:Dit e-mailadres wordt beveiligd tegen spambots. JavaScript dient ingeschakeld te zijn om het te bekijken.
DTSTAMP:20260422T080009
DTSTART;TZID=Europe/Brussels:20250217T083000
DTEND;TZID=Europe/Brussels:20250217T120000
SEQUENCE:0
TRANSP:OPAQUE
END:VEVENT
END:VCALENDAR