BEGIN:VCALENDAR
VERSION:2.0
PRODID:-//jEvents 2.0 for Joomla//EN
CALSCALE:GREGORIAN
METHOD:PUBLISH
BEGIN:VTIMEZONE
TZID:Europe/Brussels
BEGIN:STANDARD
DTSTART:20250127T083000
RDATE:20250330T030000
TZOFFSETFROM:+0200
TZOFFSETTO:+0100
TZNAME:Europe/Brussels CET
END:STANDARD
BEGIN:STANDARD
DTSTART:20251026T020000
RDATE:20260329T030000
TZOFFSETFROM:+0200
TZOFFSETTO:+0100
TZNAME:Europe/Brussels CET
END:STANDARD
BEGIN:STANDARD
DTSTART:20261025T020000
RDATE:20270328T030000
TZOFFSETFROM:+0200
TZOFFSETTO:+0100
TZNAME:Europe/Brussels CET
END:STANDARD
BEGIN:STANDARD
DTSTART:20271031T020000
RDATE:20280326T030000
TZOFFSETFROM:+0200
TZOFFSETTO:+0100
TZNAME:Europe/Brussels CET
END:STANDARD
BEGIN:STANDARD
DTSTART:20281029T020000
RDATE:20290325T030000
TZOFFSETFROM:+0200
TZOFFSETTO:+0100
TZNAME:Europe/Brussels CET
END:STANDARD
BEGIN:STANDARD
DTSTART:20291028T020000
RDATE:20300331T030000
TZOFFSETFROM:+0200
TZOFFSETTO:+0100
TZNAME:Europe/Brussels CET
END:STANDARD
BEGIN:STANDARD
DTSTART:20301027T020000
RDATE:20310330T030000
TZOFFSETFROM:+0200
TZOFFSETTO:+0100
TZNAME:Europe/Brussels CET
END:STANDARD
BEGIN:DAYLIGHT
DTSTART:20250330T030000
RDATE:20251026T020000
TZOFFSETFROM:+0100
TZOFFSETTO:+0200
TZNAME:Europe/Brussels CEST
END:DAYLIGHT
BEGIN:DAYLIGHT
DTSTART:20260329T030000
RDATE:20261025T020000
TZOFFSETFROM:+0100
TZOFFSETTO:+0200
TZNAME:Europe/Brussels CEST
END:DAYLIGHT
BEGIN:DAYLIGHT
DTSTART:20270328T030000
RDATE:20271031T020000
TZOFFSETFROM:+0100
TZOFFSETTO:+0200
TZNAME:Europe/Brussels CEST
END:DAYLIGHT
BEGIN:DAYLIGHT
DTSTART:20280326T030000
RDATE:20281029T020000
TZOFFSETFROM:+0100
TZOFFSETTO:+0200
TZNAME:Europe/Brussels CEST
END:DAYLIGHT
BEGIN:DAYLIGHT
DTSTART:20290325T030000
RDATE:20291028T020000
TZOFFSETFROM:+0100
TZOFFSETTO:+0200
TZNAME:Europe/Brussels CEST
END:DAYLIGHT
BEGIN:DAYLIGHT
DTSTART:20300331T030000
RDATE:20301027T020000
TZOFFSETFROM:+0100
TZOFFSETTO:+0200
TZNAME:Europe/Brussels CEST
END:DAYLIGHT
END:VTIMEZONE
BEGIN:VEVENT
UID:d996b17e07900c9366a912d0f7bbf370
CATEGORIES:BOC 21
CREATED:20260115T081626
SUMMARY:Jaarlijkse Rondgang LDPBW21 / Tour Annuel SLPPT21 - CC V&C/SpKw (Security en RAV))
LOCATION:Blokken/Blocs C1 - W - PolSta - L15 - D1 - D8 - L22 - Wachthuisjes  
DESCRIPTION:<p>CC V&amp;C  SpKw/SpQu (Security) = Blokken/Blocs ) D1 - D8 - F3 - Wachth
 uisjes   <strong>RV D1 - 08u30</strong><br />CC V&amp;C  SpKw/SpQu (RAV) = 
   Blokken/Blocs C1 - PolSta - L15   <strong>RV C1 - 10u00</strong></p><p>Or
 ganisatie/Organisation: LDPBW 21 = Mr. VERHOEVEN Rudolf  <joomla-hidden-mai
 l  is-link="1" is-email="1" first="cnVkb2xmLnZlcmhvZXZlbg==" last="bWlsLmJl
 " text="cnVkb2xmLnZlcmhvZXZlbkBtaWwuYmU=" base="" >Dit e-mailadres wordt be
 veiligd tegen spambots. JavaScript dient ingeschakeld te zijn om het te bek
 ijken.</joomla-hidden-mail> - <joomla-hidden-mail  is-link="1" is-email="1"
  first="REdIV0ItU0xQUFQyMS1QRVVUSUU=" last="bWlsLmJl" text="REdIV0ItU0xQUFQ
 yMS1QRVVUSUVAbWlsLmJl" base="" >Dit e-mailadres wordt beveiligd tegen spamb
 ots. JavaScript dient ingeschakeld te zijn om het te bekijken.</joomla-hidd
 en-mail> </p>
CONTACT:Dit e-mailadres wordt beveiligd tegen spambots. JavaScript dient ingeschakeld te zijn om het te bekijken.
DTSTAMP:20260422T124614
DTSTART;TZID=Europe/Brussels:20260128T083000
DTEND;TZID=Europe/Brussels:20260128T120000
SEQUENCE:0
TRANSP:OPAQUE
END:VEVENT
END:VCALENDAR