BEGIN:VCALENDAR
VERSION:2.0
PRODID:-//jEvents 2.0 for Joomla//EN
CALSCALE:GREGORIAN
METHOD:PUBLISH
BEGIN:VTIMEZONE
TZID:Europe/Brussels
BEGIN:STANDARD
DTSTART:20250112T083000
RDATE:20250330T030000
TZOFFSETFROM:+0200
TZOFFSETTO:+0100
TZNAME:Europe/Brussels CET
END:STANDARD
BEGIN:STANDARD
DTSTART:20251026T020000
RDATE:20260329T030000
TZOFFSETFROM:+0200
TZOFFSETTO:+0100
TZNAME:Europe/Brussels CET
END:STANDARD
BEGIN:STANDARD
DTSTART:20261025T020000
RDATE:20270328T030000
TZOFFSETFROM:+0200
TZOFFSETTO:+0100
TZNAME:Europe/Brussels CET
END:STANDARD
BEGIN:STANDARD
DTSTART:20271031T020000
RDATE:20280326T030000
TZOFFSETFROM:+0200
TZOFFSETTO:+0100
TZNAME:Europe/Brussels CET
END:STANDARD
BEGIN:STANDARD
DTSTART:20281029T020000
RDATE:20290325T030000
TZOFFSETFROM:+0200
TZOFFSETTO:+0100
TZNAME:Europe/Brussels CET
END:STANDARD
BEGIN:STANDARD
DTSTART:20291028T020000
RDATE:20300331T030000
TZOFFSETFROM:+0200
TZOFFSETTO:+0100
TZNAME:Europe/Brussels CET
END:STANDARD
BEGIN:STANDARD
DTSTART:20301027T020000
RDATE:20310330T030000
TZOFFSETFROM:+0200
TZOFFSETTO:+0100
TZNAME:Europe/Brussels CET
END:STANDARD
BEGIN:DAYLIGHT
DTSTART:20250330T030000
RDATE:20251026T020000
TZOFFSETFROM:+0100
TZOFFSETTO:+0200
TZNAME:Europe/Brussels CEST
END:DAYLIGHT
BEGIN:DAYLIGHT
DTSTART:20260329T030000
RDATE:20261025T020000
TZOFFSETFROM:+0100
TZOFFSETTO:+0200
TZNAME:Europe/Brussels CEST
END:DAYLIGHT
BEGIN:DAYLIGHT
DTSTART:20270328T030000
RDATE:20271031T020000
TZOFFSETFROM:+0100
TZOFFSETTO:+0200
TZNAME:Europe/Brussels CEST
END:DAYLIGHT
BEGIN:DAYLIGHT
DTSTART:20280326T030000
RDATE:20281029T020000
TZOFFSETFROM:+0100
TZOFFSETTO:+0200
TZNAME:Europe/Brussels CEST
END:DAYLIGHT
BEGIN:DAYLIGHT
DTSTART:20290325T030000
RDATE:20291028T020000
TZOFFSETFROM:+0100
TZOFFSETTO:+0200
TZNAME:Europe/Brussels CEST
END:DAYLIGHT
BEGIN:DAYLIGHT
DTSTART:20300331T030000
RDATE:20301027T020000
TZOFFSETFROM:+0100
TZOFFSETTO:+0200
TZNAME:Europe/Brussels CEST
END:DAYLIGHT
END:VTIMEZONE
BEGIN:VEVENT
UID:b81da073aa30653f12c89f9f5b2c1c97
CATEGORIES:BOC 21
CREATED:20260115T081328
SUMMARY:Jaarlijkse Rondgang LDPBW21 / Tour Annuel SLPPT21 - CC Mob&Dis
LOCATION:Blok/Bloc L6
DESCRIPTION:CC Mob&amp;Dis  =   Blokken/Blocs L3 - L4 - L6 - L7 - L11 - L13 - L17  (RV 
 L6 - 08u30 )\nOrganisatie/Organisation: LDPBW 21 = Mr. VERHOEVEN Rudolf  Di
 t e-mailadres wordt beveiligd tegen spambots. JavaScript dient ingeschakeld
  te zijn om het te bekijken. - Dit e-mailadres wordt beveiligd tegen spambo
 ts. JavaScript dient ingeschakeld te zijn om het te bekijken. \n
X-ALT-DESC;FMTTYPE=text/html:<p>CC Mob&amp;Dis  =   Blokken/Blocs L3 - L4 - L6 - L7 - L11 - L13 - L17  (
 <span style="text-decoration: underline;"><strong>RV L6 - 08u30 </strong></
 span>)</p><p>Organisatie/Organisation: LDPBW 21 = Mr. VERHOEVEN Rudolf  <jo
 omla-hidden-mail  is-link="1" is-email="1" first="cnVkb2xmLnZlcmhvZXZlbg=="
  last="bWlsLmJl" text="cnVkb2xmLnZlcmhvZXZlbkBtaWwuYmU=" base="" >Dit e-mai
 ladres wordt beveiligd tegen spambots. JavaScript dient ingeschakeld te zij
 n om het te bekijken.</joomla-hidden-mail> - <joomla-hidden-mail  is-link="
 1" is-email="1" first="REdIV0ItU0xQUFQyMS1QRVVUSUU=" last="bWlsLmJl" text="
 REdIV0ItU0xQUFQyMS1QRVVUSUVAbWlsLmJl" base="" >Dit e-mailadres wordt beveil
 igd tegen spambots. JavaScript dient ingeschakeld te zijn om het te bekijke
 n.</joomla-hidden-mail> </p>
CONTACT:Dit e-mailadres wordt beveiligd tegen spambots. JavaScript dient ingeschakeld te zijn om het te bekijken.
DTSTAMP:20260422T105805
DTSTART;TZID=Europe/Brussels:20260113T083000
DTEND;TZID=Europe/Brussels:20260113T120000
SEQUENCE:0
TRANSP:OPAQUE
END:VEVENT
END:VCALENDAR