BEGIN:VCALENDAR
VERSION:2.0
PRODID:-//jEvents 2.0 for Joomla//EN
CALSCALE:GREGORIAN
METHOD:PUBLISH
BEGIN:VTIMEZONE
TZID:Europe/Brussels
BEGIN:STANDARD
DTSTART:20231029T020000
RDATE:20240331T030000
TZOFFSETFROM:+0200
TZOFFSETTO:+0100
TZNAME:Europe/Brussels CET
END:STANDARD
BEGIN:STANDARD
DTSTART:20241027T020000
RDATE:20250330T030000
TZOFFSETFROM:+0200
TZOFFSETTO:+0100
TZNAME:Europe/Brussels CET
END:STANDARD
BEGIN:STANDARD
DTSTART:20251026T020000
RDATE:20260329T030000
TZOFFSETFROM:+0200
TZOFFSETTO:+0100
TZNAME:Europe/Brussels CET
END:STANDARD
BEGIN:STANDARD
DTSTART:20261025T020000
RDATE:20270328T030000
TZOFFSETFROM:+0200
TZOFFSETTO:+0100
TZNAME:Europe/Brussels CET
END:STANDARD
BEGIN:STANDARD
DTSTART:20271031T020000
RDATE:20280326T030000
TZOFFSETFROM:+0200
TZOFFSETTO:+0100
TZNAME:Europe/Brussels CET
END:STANDARD
BEGIN:STANDARD
DTSTART:20281029T020000
RDATE:20290325T030000
TZOFFSETFROM:+0200
TZOFFSETTO:+0100
TZNAME:Europe/Brussels CET
END:STANDARD
BEGIN:STANDARD
DTSTART:20291028T020000
RDATE:20300331T030000
TZOFFSETFROM:+0200
TZOFFSETTO:+0100
TZNAME:Europe/Brussels CET
END:STANDARD
BEGIN:STANDARD
DTSTART:20301027T020000
RDATE:20310330T030000
TZOFFSETFROM:+0200
TZOFFSETTO:+0100
TZNAME:Europe/Brussels CET
END:STANDARD
BEGIN:DAYLIGHT
DTSTART:20230530T083000
RDATE:20231029T020000
TZOFFSETFROM:+0100
TZOFFSETTO:+0200
TZNAME:Europe/Brussels CEST
END:DAYLIGHT
BEGIN:DAYLIGHT
DTSTART:20240331T030000
RDATE:20241027T020000
TZOFFSETFROM:+0100
TZOFFSETTO:+0200
TZNAME:Europe/Brussels CEST
END:DAYLIGHT
BEGIN:DAYLIGHT
DTSTART:20250330T030000
RDATE:20251026T020000
TZOFFSETFROM:+0100
TZOFFSETTO:+0200
TZNAME:Europe/Brussels CEST
END:DAYLIGHT
BEGIN:DAYLIGHT
DTSTART:20260329T030000
RDATE:20261025T020000
TZOFFSETFROM:+0100
TZOFFSETTO:+0200
TZNAME:Europe/Brussels CEST
END:DAYLIGHT
BEGIN:DAYLIGHT
DTSTART:20270328T030000
RDATE:20271031T020000
TZOFFSETFROM:+0100
TZOFFSETTO:+0200
TZNAME:Europe/Brussels CEST
END:DAYLIGHT
BEGIN:DAYLIGHT
DTSTART:20280326T030000
RDATE:20281029T020000
TZOFFSETFROM:+0100
TZOFFSETTO:+0200
TZNAME:Europe/Brussels CEST
END:DAYLIGHT
BEGIN:DAYLIGHT
DTSTART:20290325T030000
RDATE:20291028T020000
TZOFFSETFROM:+0100
TZOFFSETTO:+0200
TZNAME:Europe/Brussels CEST
END:DAYLIGHT
BEGIN:DAYLIGHT
DTSTART:20300331T030000
RDATE:20301027T020000
TZOFFSETFROM:+0100
TZOFFSETTO:+0200
TZNAME:Europe/Brussels CEST
END:DAYLIGHT
END:VTIMEZONE
BEGIN:VEVENT
UID:ecb8ef7f669e4ebc92362da1dc995da0
CATEGORIES:BOC 21
CREATED:20231114T145703
SUMMARY:Jaarlijkse Rondgang LDPBW21 - Tour Annuel SLPPT21
LOCATION:Blokken/Blocs B3 - B10
DESCRIPTION:6 Gp CIS = Blokken/Blocs B3 - B10  \nRV B3 - 08u30 \nOrganisatie/Organisati
 on: LDPBW 21 = Mr. VERHOEVEN Rudolf  Dit e-mailadres wordt beveiligd tegen 
 spambots. JavaScript dient ingeschakeld te zijn om het te bekijken. - Dit e
 -mailadres wordt beveiligd tegen spambots. JavaScript dient ingeschakeld te
  zijn om het te bekijken. \n
X-ALT-DESC;FMTTYPE=text/html:<p>6 Gp CIS = Blokken/Blocs B3 - B10  </p><p><strong>RV B3 - 08u30 </strong
 ></p><p>Organisatie/Organisation: LDPBW 21 = Mr. VERHOEVEN Rudolf  <joomla-
 hidden-mail  is-link="1" is-email="1" first="cnVkb2xmLnZlcmhvZXZlbg==" last
 ="bWlsLmJl" text="cnVkb2xmLnZlcmhvZXZlbkBtaWwuYmU=" base="" >Dit e-mailadre
 s wordt beveiligd tegen spambots. JavaScript dient ingeschakeld te zijn om 
 het te bekijken.</joomla-hidden-mail> - <joomla-hidden-mail  is-link="1" is
 -email="1" first="REdIV0ItU0xQUFQyMS1QRVVUSUU=" last="bWlsLmJl" text="REdIV
 0ItU0xQUFQyMS1QRVVUSUVAbWlsLmJl" base="" >Dit e-mailadres wordt beveiligd t
 egen spambots. JavaScript dient ingeschakeld te zijn om het te bekijken.</j
 oomla-hidden-mail> </p>
CONTACT:Dit e-mailadres wordt beveiligd tegen spambots. JavaScript dient ingeschakeld te zijn om het te bekijken.
DTSTAMP:20260422T092122
DTSTART;TZID=Europe/Brussels:20240530T083000
DTEND;TZID=Europe/Brussels:20240530T120000
SEQUENCE:0
TRANSP:OPAQUE
END:VEVENT
END:VCALENDAR