BEGIN:VCALENDAR
VERSION:2.0
PRODID:-//jEvents 2.0 for Joomla//EN
CALSCALE:GREGORIAN
METHOD:PUBLISH
BEGIN:VTIMEZONE
TZID:Europe/Brussels
BEGIN:STANDARD
DTSTART:20240130T083000
RDATE:20240331T030000
TZOFFSETFROM:+0200
TZOFFSETTO:+0100
TZNAME:Europe/Brussels CET
END:STANDARD
BEGIN:STANDARD
DTSTART:20241027T020000
RDATE:20250330T030000
TZOFFSETFROM:+0200
TZOFFSETTO:+0100
TZNAME:Europe/Brussels CET
END:STANDARD
BEGIN:STANDARD
DTSTART:20251026T020000
RDATE:20260329T030000
TZOFFSETFROM:+0200
TZOFFSETTO:+0100
TZNAME:Europe/Brussels CET
END:STANDARD
BEGIN:STANDARD
DTSTART:20261025T020000
RDATE:20270328T030000
TZOFFSETFROM:+0200
TZOFFSETTO:+0100
TZNAME:Europe/Brussels CET
END:STANDARD
BEGIN:STANDARD
DTSTART:20271031T020000
RDATE:20280326T030000
TZOFFSETFROM:+0200
TZOFFSETTO:+0100
TZNAME:Europe/Brussels CET
END:STANDARD
BEGIN:STANDARD
DTSTART:20281029T020000
RDATE:20290325T030000
TZOFFSETFROM:+0200
TZOFFSETTO:+0100
TZNAME:Europe/Brussels CET
END:STANDARD
BEGIN:STANDARD
DTSTART:20291028T020000
RDATE:20300331T030000
TZOFFSETFROM:+0200
TZOFFSETTO:+0100
TZNAME:Europe/Brussels CET
END:STANDARD
BEGIN:STANDARD
DTSTART:20301027T020000
RDATE:20310330T030000
TZOFFSETFROM:+0200
TZOFFSETTO:+0100
TZNAME:Europe/Brussels CET
END:STANDARD
BEGIN:DAYLIGHT
DTSTART:20240331T030000
RDATE:20241027T020000
TZOFFSETFROM:+0100
TZOFFSETTO:+0200
TZNAME:Europe/Brussels CEST
END:DAYLIGHT
BEGIN:DAYLIGHT
DTSTART:20250330T030000
RDATE:20251026T020000
TZOFFSETFROM:+0100
TZOFFSETTO:+0200
TZNAME:Europe/Brussels CEST
END:DAYLIGHT
BEGIN:DAYLIGHT
DTSTART:20260329T030000
RDATE:20261025T020000
TZOFFSETFROM:+0100
TZOFFSETTO:+0200
TZNAME:Europe/Brussels CEST
END:DAYLIGHT
BEGIN:DAYLIGHT
DTSTART:20270328T030000
RDATE:20271031T020000
TZOFFSETFROM:+0100
TZOFFSETTO:+0200
TZNAME:Europe/Brussels CEST
END:DAYLIGHT
BEGIN:DAYLIGHT
DTSTART:20280326T030000
RDATE:20281029T020000
TZOFFSETFROM:+0100
TZOFFSETTO:+0200
TZNAME:Europe/Brussels CEST
END:DAYLIGHT
BEGIN:DAYLIGHT
DTSTART:20290325T030000
RDATE:20291028T020000
TZOFFSETFROM:+0100
TZOFFSETTO:+0200
TZNAME:Europe/Brussels CEST
END:DAYLIGHT
BEGIN:DAYLIGHT
DTSTART:20300331T030000
RDATE:20301027T020000
TZOFFSETFROM:+0100
TZOFFSETTO:+0200
TZNAME:Europe/Brussels CEST
END:DAYLIGHT
END:VTIMEZONE
BEGIN:VEVENT
UID:b3399eab9e7e2ccff608ddb5030ea537
CATEGORIES:BOC 21
CREATED:20231114T143751
SUMMARY:Jaarlijkse Rondgang LDPBW21 / Tour Annuel SLPPT21 - CC V&C/SpKw (Security en RAV))
LOCATION:Blokken/Blocs C1 - W - PolSta - L15 - D1 - D8 - L22 - Wachthuisjes  
DESCRIPTION:<p>CC V&amp;C  SpKw/SpQu (Security) = Blokken/Blocs ) D1 - D8 - Wachthuisje
 s   <strong>RV D1 - 08u30</strong><br />CC V&amp;C  SpKw/SpQu (RAV) =   Blo
 kken/Blocs C1 - PolSta - L15   <strong>RV C1 - 10u00</strong></p><p>Organis
 atie/Organisation: LDPBW 21 = Mr. VERHOEVEN Rudolf  <joomla-hidden-mail  is
 -link="1" is-email="1" first="cnVkb2xmLnZlcmhvZXZlbg==" last="bWlsLmJl" tex
 t="cnVkb2xmLnZlcmhvZXZlbkBtaWwuYmU=" base="" >Dit e-mailadres wordt beveili
 gd tegen spambots. JavaScript dient ingeschakeld te zijn om het te bekijken
 .</joomla-hidden-mail> - <joomla-hidden-mail  is-link="1" is-email="1" firs
 t="REdIV0ItU0xQUFQyMS1QRVVUSUU=" last="bWlsLmJl" text="REdIV0ItU0xQUFQyMS1Q
 RVVUSUVAbWlsLmJl" base="" >Dit e-mailadres wordt beveiligd tegen spambots. 
 JavaScript dient ingeschakeld te zijn om het te bekijken.</joomla-hidden-ma
 il> </p>
CONTACT:Dit e-mailadres wordt beveiligd tegen spambots. JavaScript dient ingeschakeld te zijn om het te bekijken.
DTSTAMP:20260422T124659
DTSTART;TZID=Europe/Brussels:20250130T083000
DTEND;TZID=Europe/Brussels:20250130T120000
SEQUENCE:0
TRANSP:OPAQUE
END:VEVENT
END:VCALENDAR