BEGIN:VCALENDAR
VERSION:2.0
PRODID:-//jEvents 2.0 for Joomla//EN
CALSCALE:GREGORIAN
METHOD:PUBLISH
BEGIN:VTIMEZONE
TZID:Europe/Brussels
BEGIN:STANDARD
DTSTART:20220307T080000
RDATE:20220327T030000
TZOFFSETFROM:+0200
TZOFFSETTO:+0100
TZNAME:Europe/Brussels CET
END:STANDARD
BEGIN:STANDARD
DTSTART:20221030T020000
RDATE:20230326T030000
TZOFFSETFROM:+0200
TZOFFSETTO:+0100
TZNAME:Europe/Brussels CET
END:STANDARD
BEGIN:STANDARD
DTSTART:20231029T020000
RDATE:20240331T030000
TZOFFSETFROM:+0200
TZOFFSETTO:+0100
TZNAME:Europe/Brussels CET
END:STANDARD
BEGIN:STANDARD
DTSTART:20241027T020000
RDATE:20250330T030000
TZOFFSETFROM:+0200
TZOFFSETTO:+0100
TZNAME:Europe/Brussels CET
END:STANDARD
BEGIN:STANDARD
DTSTART:20251026T020000
RDATE:20260329T030000
TZOFFSETFROM:+0200
TZOFFSETTO:+0100
TZNAME:Europe/Brussels CET
END:STANDARD
BEGIN:STANDARD
DTSTART:20261025T020000
RDATE:20270328T030000
TZOFFSETFROM:+0200
TZOFFSETTO:+0100
TZNAME:Europe/Brussels CET
END:STANDARD
BEGIN:STANDARD
DTSTART:20271031T020000
RDATE:20280326T030000
TZOFFSETFROM:+0200
TZOFFSETTO:+0100
TZNAME:Europe/Brussels CET
END:STANDARD
BEGIN:STANDARD
DTSTART:20281029T020000
RDATE:20290325T030000
TZOFFSETFROM:+0200
TZOFFSETTO:+0100
TZNAME:Europe/Brussels CET
END:STANDARD
BEGIN:STANDARD
DTSTART:20291028T020000
RDATE:20300331T030000
TZOFFSETFROM:+0200
TZOFFSETTO:+0100
TZNAME:Europe/Brussels CET
END:STANDARD
BEGIN:STANDARD
DTSTART:20301027T020000
RDATE:20310330T030000
TZOFFSETFROM:+0200
TZOFFSETTO:+0100
TZNAME:Europe/Brussels CET
END:STANDARD
BEGIN:DAYLIGHT
DTSTART:20220327T030000
RDATE:20221030T020000
TZOFFSETFROM:+0100
TZOFFSETTO:+0200
TZNAME:Europe/Brussels CEST
END:DAYLIGHT
BEGIN:DAYLIGHT
DTSTART:20230326T030000
RDATE:20231029T020000
TZOFFSETFROM:+0100
TZOFFSETTO:+0200
TZNAME:Europe/Brussels CEST
END:DAYLIGHT
BEGIN:DAYLIGHT
DTSTART:20240331T030000
RDATE:20241027T020000
TZOFFSETFROM:+0100
TZOFFSETTO:+0200
TZNAME:Europe/Brussels CEST
END:DAYLIGHT
BEGIN:DAYLIGHT
DTSTART:20250330T030000
RDATE:20251026T020000
TZOFFSETFROM:+0100
TZOFFSETTO:+0200
TZNAME:Europe/Brussels CEST
END:DAYLIGHT
BEGIN:DAYLIGHT
DTSTART:20260329T030000
RDATE:20261025T020000
TZOFFSETFROM:+0100
TZOFFSETTO:+0200
TZNAME:Europe/Brussels CEST
END:DAYLIGHT
BEGIN:DAYLIGHT
DTSTART:20270328T030000
RDATE:20271031T020000
TZOFFSETFROM:+0100
TZOFFSETTO:+0200
TZNAME:Europe/Brussels CEST
END:DAYLIGHT
BEGIN:DAYLIGHT
DTSTART:20280326T030000
RDATE:20281029T020000
TZOFFSETFROM:+0100
TZOFFSETTO:+0200
TZNAME:Europe/Brussels CEST
END:DAYLIGHT
BEGIN:DAYLIGHT
DTSTART:20290325T030000
RDATE:20291028T020000
TZOFFSETFROM:+0100
TZOFFSETTO:+0200
TZNAME:Europe/Brussels CEST
END:DAYLIGHT
BEGIN:DAYLIGHT
DTSTART:20300331T030000
RDATE:20301027T020000
TZOFFSETFROM:+0100
TZOFFSETTO:+0200
TZNAME:Europe/Brussels CEST
END:DAYLIGHT
END:VTIMEZONE
BEGIN:VEVENT
UID:0aeaae54ea5fb98c117839411823b438
CATEGORIES:BOC 8
CREATED:20230302T181218
SUMMARY:BOC 08 TRIM 01
DESCRIPTION:<p> </p><p><joomla-hidden-mail  is-link="1" is-email="1" first="Qk5IS0RFRlN
 US0tFLUJPQzA4" last="bWlsLmJl" text="Qk5IS0RFRlNUS0tFLUJPQzA4QG1pbC5iZQ==" 
 base="" >Dit e-mailadres wordt beveiligd tegen spambots. JavaScript dient i
 ngeschakeld te zijn om het te bekijken.</joomla-hidden-mail></p><h1>CCBOC 0
 8 TRIM 01 2023: 08 Maart / Mars 0900h</h1><p><strong>Kwartier Koningin Elis
 abeth, Bibliotheek Meeting room</strong><br /> <strong>Quartier Reine Elisa
 beth, Bibliothèque Meeting room.</strong></p><p> </p><h1><strong>CONVOVATIE
  / CONVOCATION CCBOC_08</strong></h1><table width="0"><tbody><tr><td width=
 "84"><p><strong>MIL</strong></p></td><td width="460"><p><a href="http://boc
 -ccb.mil.be/index.php/nl/vergadering-boc/08-2023-01-1/45207-202302dd-pu-23-
 50035757-mil-pdf/file">https://boc-ccb.mil.be/index.php/nl/vergadering-boc/
 08-2023-01-1/45207-202302dd-pu-23-50035757-mil-pdf/file</a></p></td><td wid
 th="97"><p> </p></td></tr><tr><td width="84"><p><strong>CIV</strong></p></t
 d><td width="460"><p><a href="http://boc-ccb.mil.be/index.php/nl/vergaderin
 g-boc/08-2023-01-1/45210-20230227-pu-23-50041946-civ-pdf/file">https://boc-
 ccb.mil.be/index.php/nl/vergadering-boc/08-2023-01-1/45210-20230227-pu-23-5
 0041946-civ-pdf/file</a></p></td><td width="97"> </td></tr></tbody></table>
 <p><strong>NOTULEN </strong></p><table width="0"><tbody><tr><td width="640"
 ><p> </p><p><strong><u>PowerPoint BOC_08 TRIM 04 2022.</u></strong></p><p> 
 </p></td></tr></tbody></table><p> </p>
DTSTAMP:20260422T093904
DTSTART;TZID=Europe/Brussels:20230308T080000
DTEND;TZID=Europe/Brussels:20230308T170000
SEQUENCE:0
TRANSP:OPAQUE
END:VEVENT
END:VCALENDAR